Package: cmapR Version: 1.18.0 Command: chmod a+r cmapR -R && F:\biocbuild\bbs-3.20-bioc\R\bin\R.exe CMD build --keep-empty-dirs --no-resave-data cmapR StartedAt: 2025-02-03 18:13:36 -0500 (Mon, 03 Feb 2025) EndedAt: 2025-02-03 18:15:21 -0500 (Mon, 03 Feb 2025) EllapsedTime: 104.5 seconds RetCode: 0 Status: OK PackageFile: cmapR_1.18.0.tar.gz PackageFileSize: 3.686 MiB