Package: cmapR Version: 1.18.0 Command: /home/biocbuild/R/R/bin/R CMD build --keep-empty-dirs --no-resave-data cmapR StartedAt: 2025-02-03 22:41:46 -0000 (Mon, 03 Feb 2025) EndedAt: 2025-02-03 22:42:56 -0000 (Mon, 03 Feb 2025) EllapsedTime: 70.0 seconds RetCode: 0 Status: OK PackageFile: cmapR_1.18.0.tar.gz PackageFileSize: 3.756 MiB