Package: cn.farms Version: 1.54.0 Command: rm -rf cn.farms.buildbin-libdir && mkdir cn.farms.buildbin-libdir && /Users/biocbuild/BBS/utils/build-universal.sh cn.farms_1.54.0.tar.gz /Library/Frameworks/R.framework/Resources/bin/R cn.farms.buildbin-libdir StartedAt: 2025-02-05 15:17:14 -0500 (Wed, 05 Feb 2025) EndedAt: 2025-02-05 15:17:55 -0500 (Wed, 05 Feb 2025) EllapsedTime: 40.7 seconds RetCode: 0 Status: OK PackageFile: cn.farms_1.54.0.tgz PackageFileSize: 2.466 MiB