Package: cn.farms
Version: 1.54.0
Command: /Library/Frameworks/R.framework/Resources/bin/R CMD check --install=check:cn.farms.install-out.txt --library=/Library/Frameworks/R.framework/Resources/library --no-vignettes --timings cn.farms_1.54.0.tar.gz
StartedAt: 2025-02-18 14:51:27 -0500 (Tue, 18 Feb 2025)
EndedAt: 2025-02-18 14:55:31 -0500 (Tue, 18 Feb 2025)
EllapsedTime: 244.3 seconds
RetCode: 0
Status: OK
CheckDir: cn.farms.Rcheck
Warnings: 0