##############################################################################
##############################################################################
###
### Running command:
###
###   /home/biocbuild/bbs-3.20-bioc/R/bin/R CMD INSTALL cn.farms
###
##############################################################################
##############################################################################


* installing to library ‘/home/biocbuild/bbs-3.20-bioc/R/site-library’
* installing *source* package ‘cn.farms’ ...
** using staged installation
** libs
using C compiler: ‘gcc (Ubuntu 13.3.0-6ubuntu2~24.04) 13.3.0’
using C++ compiler: ‘g++ (Ubuntu 13.3.0-6ubuntu2~24.04) 13.3.0’
gcc -I"/home/biocbuild/bbs-3.20-bioc/R/include" -DNDEBUG   -I/usr/local/include    -fpic  -g -O2  -Wall -c R_init_cnfarms.c -o R_init_cnfarms.o
g++ -std=gnu++17 -I"/home/biocbuild/bbs-3.20-bioc/R/include" -DNDEBUG   -I/usr/local/include    -fpic  -g -O2  -Wall  -c laplace.cpp -o laplace.o
laplace.cpp: In function ‘SEXPREC* momentsGauss(SEXP, SEXP, SEXP, SEXP, SEXP, SEXP, SEXP, SEXP, SEXP, SEXP)’:
laplace.cpp:442:13: warning: unused variable ‘method’ [-Wunused-variable]
  442 |         int method=0;
      |             ^~~~~~
laplace.cpp: In function ‘void computeParameters(double, double, double, double, double, double, int&, double&, double&, double&, double&, double&, double&, double&, double&, double&, double&, double&, double&, double&, double&)’:
laplace.cpp:393:93: warning: ‘I1left’ may be used uninitialized [-Wmaybe-uninitialized]
  393 |         moment2 = (-0.5*a+0.25*(b-1/sigmaZ)*(b-1/sigmaZ)+(b*leftWeight)/(sigmaZ)+(leftWeight*I1left*sqrtMa)/(sqrt(2.0)*sigmaZ))/(a*a);
      |                                                                                   ~~~~~~~~~~^~~~~~~
laplace.cpp:198:16: note: ‘I1left’ was declared here
  198 |         double I1left;
      |                ^~~~~~
laplace.cpp:368:63: warning: ‘I1right’ may be used uninitialized [-Wmaybe-uninitialized]
  368 |         double rightMoment1=1.0*rightMy*I0right+1.0*rightSigma*I1right;
      |                                                 ~~~~~~~~~~~~~~^~~~~~~~
laplace.cpp:199:16: note: ‘I1right’ was declared here
  199 |         double I1right;
      |                ^~~~~~~
gcc -I"/home/biocbuild/bbs-3.20-bioc/R/include" -DNDEBUG   -I/usr/local/include    -fpic  -g -O2  -Wall -c sparse_farms.c -o sparse_farms.o
g++ -std=gnu++17 -shared -L/home/biocbuild/bbs-3.20-bioc/R/lib -L/usr/local/lib -o cn.farms.so R_init_cnfarms.o laplace.o sparse_farms.o -L/home/biocbuild/bbs-3.20-bioc/R/lib -lR
installing to /home/biocbuild/bbs-3.20-bioc/R/site-library/00LOCK-cn.farms/00new/cn.farms/libs
** R
** demo
** inst
** byte-compile and prepare package for lazy loading
** help
*** installing help indices
** building package indices
** installing vignettes
** testing if installed package can be loaded from temporary location
** checking absolute paths in shared objects and dynamic libraries
** testing if installed package can be loaded from final location
** testing if installed package keeps a record of temporary installation path
* DONE (cn.farms)