Package: cn.mops Version: 1.52.0 Command: /home/biocbuild/bbs-3.20-bioc/R/bin/R CMD check --install=check:cn.mops.install-out.txt --library=/home/biocbuild/bbs-3.20-bioc/R/site-library --timings cn.mops_1.52.0.tar.gz StartedAt: 2025-02-03 21:07:29 -0500 (Mon, 03 Feb 2025) EndedAt: 2025-02-03 21:10:35 -0500 (Mon, 03 Feb 2025) EllapsedTime: 186.3 seconds RetCode: 0 Status: OK CheckDir: cn.mops.Rcheck Warnings: 0