Package: cn.mops Version: 1.52.0 Command: /home/biocbuild/R/R/bin/R CMD build --keep-empty-dirs --no-resave-data cn.mops StartedAt: 2025-02-03 22:42:10 -0000 (Mon, 03 Feb 2025) EndedAt: 2025-02-03 22:43:11 -0000 (Mon, 03 Feb 2025) EllapsedTime: 61.0 seconds RetCode: 0 Status: OK PackageFile: cn.mops_1.52.0.tar.gz PackageFileSize: 1019 KiB