Package: cn.mops
Version: 1.52.0
Command: /home/biocbuild/bbs-3.20-bioc/R/bin/R CMD INSTALL cn.mops
StartedAt: 2024-11-19 16:02:10 -0500 (Tue, 19 Nov 2024)
EndedAt: 2024-11-19 16:02:25 -0500 (Tue, 19 Nov 2024)
EllapsedTime: 15.6 seconds
RetCode: 0
Status: OK