Package: cnvGSA Version: 1.50.0 Command: /Library/Frameworks/R.framework/Resources/bin/R CMD check --install=check:cnvGSA.install-out.txt --library=/Library/Frameworks/R.framework/Resources/library --no-vignettes --timings cnvGSA_1.50.0.tar.gz StartedAt: 2025-02-11 15:06:07 -0500 (Tue, 11 Feb 2025) EndedAt: 2025-02-11 15:07:35 -0500 (Tue, 11 Feb 2025) EllapsedTime: 88.1 seconds RetCode: 0 Status: OK CheckDir: cnvGSA.Rcheck Warnings: 0