Package: cnvGSA Version: 1.50.0 Command: /home/biocbuild/R/R/bin/R CMD build --keep-empty-dirs --no-resave-data cnvGSA StartedAt: 2025-02-03 22:42:56 -0000 (Mon, 03 Feb 2025) EndedAt: 2025-02-03 22:43:11 -0000 (Mon, 03 Feb 2025) EllapsedTime: 15.0 seconds RetCode: 0 Status: OK PackageFile: cnvGSA_1.50.0.tar.gz PackageFileSize: 330.9 KiB