Package: cnvGSA Version: 1.50.0 Command: /home/biocbuild/R/R/bin/R CMD check --install=check:cnvGSA.install-out.txt --library=/home/biocbuild/R/R/site-library --no-vignettes --timings cnvGSA_1.50.0.tar.gz StartedAt: 2025-02-04 05:47:42 -0000 (Tue, 04 Feb 2025) EndedAt: 2025-02-04 05:49:03 -0000 (Tue, 04 Feb 2025) EllapsedTime: 81.1 seconds RetCode: 0 Status: OK CheckDir: cnvGSA.Rcheck Warnings: 0