Package: cnvGSA Version: 1.50.0 Command: /home/biocbuild/R/R/bin/R CMD INSTALL cnvGSA StartedAt: 2025-02-03 20:30:26 -0000 (Mon, 03 Feb 2025) EndedAt: 2025-02-03 20:30:40 -0000 (Mon, 03 Feb 2025) EllapsedTime: 14.0 seconds RetCode: 0 Status: OK