Package: coMET Version: 1.38.0 Maintainer: Tiphaine Martin MaintainerEmail: tiphaine.martin at mssm.edu git_url: https://git.bioconductor.org/packages/coMET git_branch: RELEASE_3_20 git_last_commit: 59f6013 git_last_commit_date: 2024-10-29 11:16:09 -0500 (Tue, 29 Oct 2024)