Package: coMET Version: 1.38.0 Command: /Library/Frameworks/R.framework/Resources/bin/R CMD INSTALL coMET StartedAt: 2025-02-03 16:40:39 -0500 (Mon, 03 Feb 2025) EndedAt: 2025-02-03 16:41:45 -0500 (Mon, 03 Feb 2025) EllapsedTime: 66.3 seconds RetCode: 0 Status: OK