Package: coMethDMR Version: 1.10.0 Command: rm -rf coMethDMR.buildbin-libdir && mkdir coMethDMR.buildbin-libdir && /Users/biocbuild/BBS/utils/build-universal.sh coMethDMR_1.10.0.tar.gz /Library/Frameworks/R.framework/Resources/bin/R coMethDMR.buildbin-libdir StartedAt: 2025-02-05 15:20:25 -0500 (Wed, 05 Feb 2025) EndedAt: 2025-02-05 15:21:25 -0500 (Wed, 05 Feb 2025) EllapsedTime: 59.9 seconds RetCode: 0 Status: OK PackageFile: coMethDMR_1.10.0.tgz PackageFileSize: 3.173 MiB