Package: coMethDMR Version: 1.10.0 Command: /Library/Frameworks/R.framework/Resources/bin/R CMD INSTALL coMethDMR StartedAt: 2025-02-03 16:15:32 -0500 (Mon, 03 Feb 2025) EndedAt: 2025-02-03 16:16:28 -0500 (Mon, 03 Feb 2025) EllapsedTime: 55.4 seconds RetCode: 0 Status: OK