Package: coMethDMR Version: 1.10.0 Command: /home/biocbuild/R/R/bin/R CMD build --keep-empty-dirs --no-resave-data coMethDMR StartedAt: 2025-02-03 22:45:57 -0000 (Mon, 03 Feb 2025) EndedAt: 2025-02-03 22:51:28 -0000 (Mon, 03 Feb 2025) EllapsedTime: 331.1 seconds RetCode: 0 Status: OK PackageFile: coMethDMR_1.10.0.tar.gz PackageFileSize: 3.116 MiB