Package: coMethDMR Version: 1.10.0 Command: /home/biocbuild/R/R/bin/R CMD INSTALL coMethDMR StartedAt: 2025-02-03 20:48:41 -0000 (Mon, 03 Feb 2025) EndedAt: 2025-02-03 20:49:58 -0000 (Mon, 03 Feb 2025) EllapsedTime: 76.9 seconds RetCode: 0 Status: OK