Package: codelink Version: 1.74.0 Command: rm -rf codelink.buildbin-libdir && mkdir codelink.buildbin-libdir && /Users/biocbuild/BBS/utils/build-universal.sh codelink_1.74.0.tar.gz /Library/Frameworks/R.framework/Resources/bin/R codelink.buildbin-libdir StartedAt: 2025-02-04 12:42:01 -0500 (Tue, 04 Feb 2025) EndedAt: 2025-02-04 12:42:44 -0500 (Tue, 04 Feb 2025) EllapsedTime: 42.6 seconds RetCode: 0 Status: OK PackageFile: codelink_1.74.0.tgz PackageFileSize: 3.573 MiB