Package: codelink Version: 1.74.0 Command: chmod a+r codelink -R && F:\biocbuild\bbs-3.20-bioc\R\bin\R.exe CMD build --keep-empty-dirs --no-resave-data codelink StartedAt: 2025-02-03 18:15:37 -0500 (Mon, 03 Feb 2025) EndedAt: 2025-02-03 18:16:36 -0500 (Mon, 03 Feb 2025) EllapsedTime: 58.5 seconds RetCode: 0 Status: OK PackageFile: codelink_1.74.0.tar.gz PackageFileSize: 3.182 MiB