Package: cogena Version: 1.40.0 Command: rm -rf cogena.buildbin-libdir && mkdir cogena.buildbin-libdir && /Users/biocbuild/BBS/utils/build-universal.sh cogena_1.40.0.tar.gz /Library/Frameworks/R.framework/Resources/bin/R cogena.buildbin-libdir StartedAt: 2025-02-01 14:24:19 -0500 (Sat, 01 Feb 2025) EndedAt: 2025-02-01 14:24:38 -0500 (Sat, 01 Feb 2025) EllapsedTime: 19.5 seconds RetCode: 0 Status: OK PackageFile: cogena_1.40.0.tgz PackageFileSize: 7.704 MiB