Package: cogena Version: 1.40.0 Command: /Library/Frameworks/R.framework/Resources/bin/R CMD build --keep-empty-dirs --no-resave-data cogena StartedAt: 2025-01-30 18:05:15 -0500 (Thu, 30 Jan 2025) EndedAt: 2025-01-30 18:12:48 -0500 (Thu, 30 Jan 2025) EllapsedTime: 452.9 seconds RetCode: 0 Status: OK PackageFile: cogena_1.40.0.tar.gz PackageFileSize: 7.508 MiB