Package: cogena Version: 1.40.0 Command: /Library/Frameworks/R.framework/Resources/bin/R CMD INSTALL cogena StartedAt: 2025-01-30 16:09:44 -0500 (Thu, 30 Jan 2025) EndedAt: 2025-01-30 16:10:17 -0500 (Thu, 30 Jan 2025) EllapsedTime: 33.0 seconds RetCode: 0 Status: OK