Package: cogena Version: 1.40.0 Command: /home/biocbuild/bbs-3.20-bioc/R/bin/R CMD check --install=check:cogena.install-out.txt --library=/home/biocbuild/bbs-3.20-bioc/R/site-library --timings cogena_1.40.0.tar.gz StartedAt: 2025-01-30 20:59:59 -0500 (Thu, 30 Jan 2025) EndedAt: 2025-01-30 21:05:43 -0500 (Thu, 30 Jan 2025) EllapsedTime: 344.3 seconds RetCode: 0 Status: WARNINGS CheckDir: cogena.Rcheck Warnings: 1