Package: cogena Version: 1.40.0 Command: F:\biocbuild\bbs-3.20-bioc\R\bin\R.exe CMD check --no-multiarch --install=check:cogena.install-out.txt --library=F:\biocbuild\bbs-3.20-bioc\R\library --no-vignettes --timings cogena_1.40.0.tar.gz StartedAt: 2025-01-31 00:42:41 -0500 (Fri, 31 Jan 2025) EndedAt: 2025-01-31 00:46:48 -0500 (Fri, 31 Jan 2025) EllapsedTime: 247.1 seconds RetCode: 0 Status: WARNINGS CheckDir: cogena.Rcheck Warnings: 1