Package: cola Version: 2.12.0 Command: /home/biocbuild/bbs-3.20-bioc/R/bin/R CMD check --install=check:cola.install-out.txt --library=/home/biocbuild/bbs-3.20-bioc/R/site-library --timings cola_2.12.0.tar.gz StartedAt: 2025-01-30 21:00:38 -0500 (Thu, 30 Jan 2025) EndedAt: 2025-01-30 21:03:28 -0500 (Thu, 30 Jan 2025) EllapsedTime: 170.1 seconds RetCode: 0 Status: OK CheckDir: cola.Rcheck Warnings: 0