Package: cola Version: 2.12.0 Command: rm -rf cola.buildbin-libdir && mkdir cola.buildbin-libdir && F:\biocbuild\bbs-3.20-bioc\R\bin\R.exe CMD INSTALL --build --library=cola.buildbin-libdir cola_2.12.0.tar.gz StartedAt: 2025-01-31 08:25:11 -0500 (Fri, 31 Jan 2025) EndedAt: 2025-01-31 08:26:58 -0500 (Fri, 31 Jan 2025) EllapsedTime: 106.5 seconds RetCode: 0 Status: OK PackageFile: cola_2.12.0.zip PackageFileSize: 4.95 MiB