Package: cola Version: 2.12.0 Command: chmod a+r cola -R && F:\biocbuild\bbs-3.20-bioc\R\bin\R.exe CMD build --keep-empty-dirs --no-resave-data cola StartedAt: 2025-01-30 18:03:45 -0500 (Thu, 30 Jan 2025) EndedAt: 2025-01-30 18:05:15 -0500 (Thu, 30 Jan 2025) EllapsedTime: 90.1 seconds RetCode: 0 Status: OK PackageFile: cola_2.12.0.tar.gz PackageFileSize: 3.658 MiB