Package: compEpiTools Version: 1.40.0 Command: /Library/Frameworks/R.framework/Resources/bin/R CMD INSTALL compEpiTools StartedAt: 2025-02-03 16:44:18 -0500 (Mon, 03 Feb 2025) EndedAt: 2025-02-03 16:45:27 -0500 (Mon, 03 Feb 2025) EllapsedTime: 68.5 seconds RetCode: 0 Status: OK