Package: compEpiTools Version: 1.40.0 Command: /Library/Frameworks/R.framework/Resources/bin/R CMD build --keep-empty-dirs --no-resave-data compEpiTools StartedAt: 2025-02-03 18:02:57 -0500 (Mon, 03 Feb 2025) EndedAt: 2025-02-03 18:06:17 -0500 (Mon, 03 Feb 2025) EllapsedTime: 200.1 seconds RetCode: 0 Status: OK PackageFile: compEpiTools_1.40.0.tar.gz PackageFileSize: 2.166 MiB