Package: compEpiTools Version: 1.40.0 Command: /home/biocbuild/bbs-3.20-bioc/R/bin/R CMD check --install=check:compEpiTools.install-out.txt --library=/home/biocbuild/bbs-3.20-bioc/R/site-library --timings compEpiTools_1.40.0.tar.gz StartedAt: 2025-02-03 21:13:42 -0500 (Mon, 03 Feb 2025) EndedAt: 2025-02-03 21:21:02 -0500 (Mon, 03 Feb 2025) EllapsedTime: 439.4 seconds RetCode: 0 Status: OK CheckDir: compEpiTools.Rcheck Warnings: 0