Package: compSPOT Version: 1.4.0 Command: /Library/Frameworks/R.framework/Resources/bin/R CMD build --keep-empty-dirs --no-resave-data compSPOT StartedAt: 2025-02-03 18:03:59 -0500 (Mon, 03 Feb 2025) EndedAt: 2025-02-03 18:04:57 -0500 (Mon, 03 Feb 2025) EllapsedTime: 57.8 seconds RetCode: 0 Status: OK PackageFile: compSPOT_1.4.0.tar.gz PackageFileSize: 436.5 KiB