Package: compSPOT Version: 1.4.0 Command: /Library/Frameworks/R.framework/Resources/bin/R CMD INSTALL compSPOT StartedAt: 2025-02-03 16:45:11 -0500 (Mon, 03 Feb 2025) EndedAt: 2025-02-03 16:45:23 -0500 (Mon, 03 Feb 2025) EllapsedTime: 12.2 seconds RetCode: 0 Status: OK