Package: compSPOT Version: 1.4.0 Command: /home/biocbuild/bbs-3.20-bioc/R/bin/R CMD build --keep-empty-dirs --no-resave-data --md5 compSPOT StartedAt: 2025-02-03 16:56:56 -0500 (Mon, 03 Feb 2025) EndedAt: 2025-02-03 16:57:15 -0500 (Mon, 03 Feb 2025) EllapsedTime: 19.0 seconds RetCode: 0 Status: OK PackageFile: compSPOT_1.4.0.tar.gz PackageFileSize: 437.9 KiB