Package: compSPOT Version: 1.4.0 Command: /home/biocbuild/R/R/bin/R CMD build --keep-empty-dirs --no-resave-data compSPOT StartedAt: 2025-02-03 22:47:32 -0000 (Mon, 03 Feb 2025) EndedAt: 2025-02-03 22:48:02 -0000 (Mon, 03 Feb 2025) EllapsedTime: 30.0 seconds RetCode: 0 Status: OK PackageFile: compSPOT_1.4.0.tar.gz PackageFileSize: 462.5 KiB