Package: compSPOT Version: 1.4.0 Command: /home/biocbuild/R/R/bin/R CMD INSTALL compSPOT StartedAt: 2025-02-03 21:21:07 -0000 (Mon, 03 Feb 2025) EndedAt: 2025-02-03 21:21:13 -0000 (Mon, 03 Feb 2025) EllapsedTime: 6.3 seconds RetCode: 0 Status: OK