Package: compcodeR Version: 1.42.0 Command: rm -rf compcodeR.buildbin-libdir && mkdir compcodeR.buildbin-libdir && /Users/biocbuild/BBS/utils/build-universal.sh compcodeR_1.42.0.tar.gz /Library/Frameworks/R.framework/Resources/bin/R compcodeR.buildbin-libdir StartedAt: 2025-02-05 15:20:37 -0500 (Wed, 05 Feb 2025) EndedAt: 2025-02-05 15:20:54 -0500 (Wed, 05 Feb 2025) EllapsedTime: 16.9 seconds RetCode: 0 Status: OK PackageFile: compcodeR_1.42.0.tgz PackageFileSize: 2.696 MiB