Package: compcodeR Version: 1.42.0 Command: /Library/Frameworks/R.framework/Resources/bin/R CMD build --keep-empty-dirs --no-resave-data compcodeR StartedAt: 2025-02-03 21:15:32 -0500 (Mon, 03 Feb 2025) EndedAt: 2025-02-03 21:15:59 -0500 (Mon, 03 Feb 2025) EllapsedTime: 27.1 seconds RetCode: 0 Status: OK PackageFile: compcodeR_1.42.0.tar.gz PackageFileSize: 4.74 MiB