Package: compcodeR Version: 1.42.0 Command: /Library/Frameworks/R.framework/Resources/bin/R CMD INSTALL compcodeR StartedAt: 2025-02-03 16:35:37 -0500 (Mon, 03 Feb 2025) EndedAt: 2025-02-03 16:35:50 -0500 (Mon, 03 Feb 2025) EllapsedTime: 13.6 seconds RetCode: 0 Status: OK