Package: compcodeR
Version: 1.42.0
Command: rm -rf compcodeR.buildbin-libdir && mkdir compcodeR.buildbin-libdir && /Users/biocbuild/BBS/utils/build-universal.sh compcodeR_1.42.0.tar.gz /Library/Frameworks/R.framework/Resources/bin/R compcodeR.buildbin-libdir
StartedAt: 2024-11-09 16:43:26 -0500 (Sat, 09 Nov 2024)
EndedAt: 2024-11-09 16:43:32 -0500 (Sat, 09 Nov 2024)
EllapsedTime: 6.1 seconds
RetCode: 0
Status: OK
PackageFile: compcodeR_1.42.0.tgz
PackageFileSize: 2.697 <A href="http://en.wikipedia.org/wiki/MiB" target="_blank">MiB</A>