Package: compcodeR Version: 1.42.0 Command: /Library/Frameworks/R.framework/Resources/bin/R CMD build --keep-empty-dirs --no-resave-data compcodeR StartedAt: 2025-02-03 18:02:52 -0500 (Mon, 03 Feb 2025) EndedAt: 2025-02-03 18:03:45 -0500 (Mon, 03 Feb 2025) EllapsedTime: 53.0 seconds RetCode: 0 Status: OK PackageFile: compcodeR_1.42.0.tar.gz PackageFileSize: 4.74 MiB