Package: compcodeR Version: 1.42.0 Command: /Library/Frameworks/R.framework/Resources/bin/R CMD INSTALL compcodeR StartedAt: 2025-02-03 16:02:05 -0500 (Mon, 03 Feb 2025) EndedAt: 2025-02-03 16:02:34 -0500 (Mon, 03 Feb 2025) EllapsedTime: 29.6 seconds RetCode: 0 Status: OK