Package: compcodeR Version: 1.42.0 Command: chmod a+r compcodeR -R && F:\biocbuild\bbs-3.20-bioc\R\bin\R.exe CMD build --keep-empty-dirs --no-resave-data compcodeR StartedAt: 2025-02-17 18:04:34 -0500 (Mon, 17 Feb 2025) EndedAt: 2025-02-17 18:06:24 -0500 (Mon, 17 Feb 2025) EllapsedTime: 110.5 seconds RetCode: 0 Status: OK PackageFile: compcodeR_1.42.0.tar.gz PackageFileSize: 4.687 <A href="http://en.wikipedia.org/wiki/MiB" target="_blank">MiB</A>