Package: concordexR Version: 1.6.0 Command: /home/biocbuild/R/R/bin/R CMD check --install=check:concordexR.install-out.txt --library=/home/biocbuild/R/R/site-library --no-vignettes --timings concordexR_1.6.0.tar.gz StartedAt: 2024-11-20 06:31:47 -0000 (Wed, 20 Nov 2024) EndedAt: 2024-11-20 06:37:08 -0000 (Wed, 20 Nov 2024) EllapsedTime: 320.5 seconds RetCode: 0 Status: OK CheckDir: concordexR.Rcheck Warnings: 0