Package: concordexR
Version: 1.6.0
Command: /Library/Frameworks/R.framework/Resources/bin/R CMD check --install=check:concordexR.install-out.txt --library=/Library/Frameworks/R.framework/Resources/library --no-vignettes --timings concordexR_1.6.0.tar.gz
StartedAt: 2024-11-19 20:50:15 -0500 (Tue, 19 Nov 2024)
EndedAt: 2024-11-19 20:57:06 -0500 (Tue, 19 Nov 2024)
EllapsedTime: 410.4 seconds
RetCode: 0
Status: OK
CheckDir: concordexR.Rcheck
Warnings: 0