Package: concordexR Version: 1.6.0 Command: /Library/Frameworks/R.framework/Resources/bin/R CMD build --keep-empty-dirs --no-resave-data concordexR StartedAt: 2025-02-03 18:04:02 -0500 (Mon, 03 Feb 2025) EndedAt: 2025-02-03 18:07:07 -0500 (Mon, 03 Feb 2025) EllapsedTime: 185.1 seconds RetCode: 0 Status: OK PackageFile: concordexR_1.6.0.tar.gz PackageFileSize: 1.45 MiB