Package: concordexR Version: 1.6.0 Command: /Library/Frameworks/R.framework/Resources/bin/R CMD check --install=check:concordexR.install-out.txt --library=/Library/Frameworks/R.framework/Resources/library --no-vignettes --timings concordexR_1.6.0.tar.gz StartedAt: 2025-02-04 01:41:48 -0500 (Tue, 04 Feb 2025) EndedAt: 2025-02-04 01:50:15 -0500 (Tue, 04 Feb 2025) EllapsedTime: 506.1 seconds RetCode: 0 Status: OK CheckDir: concordexR.Rcheck Warnings: 0