Package: concordexR
Version: 1.5.0
Command: chmod a+r concordexR -R && C:\Users\biocbuild\bbs-3.20-bioc\R\bin\R.exe CMD build --keep-empty-dirs --no-resave-data concordexR
StartedAt: 2024-07-15 17:15:16 -0400 (Mon, 15 Jul 2024)
EndedAt: 2024-07-15 17:17:31 -0400 (Mon, 15 Jul 2024)
EllapsedTime: 134.5 seconds
RetCode: 0
Status: OK
PackageFile: concordexR_1.5.0.tar.gz
PackageFileSize: 1.11 <A href="http://en.wikipedia.org/wiki/MiB" target="_blank">MiB</A>