Package: condiments Version: 1.14.0 Command: /Library/Frameworks/R.framework/Resources/bin/R CMD check --install=check:condiments.install-out.txt --library=/Library/Frameworks/R.framework/Resources/library --no-vignettes --timings condiments_1.14.0.tar.gz StartedAt: 2025-02-04 01:42:40 -0500 (Tue, 04 Feb 2025) EndedAt: 2025-02-04 01:57:22 -0500 (Tue, 04 Feb 2025) EllapsedTime: 882.2 seconds RetCode: 0 Status: OK CheckDir: condiments.Rcheck Warnings: 0