Package: condiments Version: 1.14.0 Command: /home/biocbuild/bbs-3.20-bioc/R/bin/R CMD build --keep-empty-dirs --no-resave-data --md5 condiments StartedAt: 2025-02-03 16:56:59 -0500 (Mon, 03 Feb 2025) EndedAt: 2025-02-03 17:00:09 -0500 (Mon, 03 Feb 2025) EllapsedTime: 190.2 seconds RetCode: 0 Status: OK PackageFile: condiments_1.14.0.tar.gz PackageFileSize: 2.002 MiB